{"text_format":"1","workbook":"xlsx","n_sheets":3,"sheets":["clock","pointers","Sheet3"],"not_rendered":{"charts":4,"images":0,"macros":1,"external_links":0,"defined_names":1,"comments":0,"pivot_tables":0},"unopened":[],"bounds":{"document_bytes":16777216,"sheet_cells":100000,"rows_first":2000,"rows_last":500,"rows_between":2000,"halvings":0,"cell_chars":16384,"cell_head_chars":4096},"cells_cut":0,"cells_raw":0,"read":"whole","date_system":"1900"}

{"sheet":"clock","index":0,"n_rows":12,"n_cols":28,"rows_kept":12,"cut":false,"hidden":false,"merged":[]}
[null,null,null,"hours","minutes","seconds"]
[null,"Time",{"$f":"NOW()","v":"2016-05-25T13:15:02.600"},{"$f":"HOUR(C2)","v":13},{"$f":"MINUTE(C2)","v":15},{"$f":"SECOND(C2)","v":3}]
[null,"Ratio",null,{"$f":"C2-INT(C2)-IF(C2-INT(C2)>=0.5,0.5,0)","v":5.2113425925199408E-2},{"$f":"(E2*60+F2)/3600","v":0.25083333333333335},{"$f":"F2/60","v":0.05}]
[null,"Rotation",null,{"$f":"2*360*D3/rad2deg","v":0.65487815554642581},{"$f":"360*E3/rad2deg","v":1.5760360000000002},{"$f":"360*F3/rad2deg","v":0.31415999999999999}]
[]
[null,"point",1,2,3,4,5,6,7,8,9,10,11,12,13,14,15,16,17,18,19,20,21,22,23,24,25,26]
[null,"HourX",{"$f":"-pointers!C5*COS(pointers!C6/rad2deg+$D$4)","v":-1.218119394023933},{"$f":"-pointers!D5*COS(pointers!D6/rad2deg+$D$4)","v":-1.5862442897795921},{"$f":"-pointers!E5*COS(pointers!E6/rad2deg+$D$4)","v":0.4250030757429748},{"$f":"-pointers!F5*COS(pointers!F6/rad2deg+$D$4)","v":0.6375046136144622},{"$f":"-pointers!G5*COS(pointers!G6/rad2deg+$D$4)","v":1.4972214201955127},{"$f":"-pointers!H5*COS(pointers!H6/rad2deg+$D$4)","v":1.6431282963757465},{"$f":"-pointers!I5*COS(pointers!I6/rad2deg+$D$4)","v":1.6715702996738224},{"$f":"-pointers!J5*COS(pointers!J6/rad2deg+$D$4)","v":3.1276321637735323},{"$f":"-pointers!K5*COS(pointers!K6/rad2deg+$D$4)","v":3.378286360038198},{"$f":"-pointers!L5*COS(pointers!L6/rad2deg+$D$4)","v":4.6884413479576743},{"$f":"-pointers!M5*COS(pointers!M6/rad2deg+$D$4)","v":5.5100054961455447},{"$f":"-pointers!N5*COS(pointers!N6/rad2deg+$D$4)","v":6.3031276410353403},{"$f":"-pointers!O5*COS(pointers!O6/rad2deg+$D$4)","v":9.0566269402568036},{"$f":"-pointers!P5*COS(pointers!P6/rad2deg+$D$4)","v":9.2153383205530179},{"$f":"-pointers!Q5*COS(pointers!Q6/rad2deg+$D$4)","v":7.0963116411285805},{"$f":"-pointers!R5*COS(pointers!R6/rad2deg+$D$4)","v":7.8894293115731982},{"$f":"-pointers!S5*COS(pointers!S6/rad2deg+$D$4)","v":6.2747336025497509},{"$f":"-pointers!T5*COS(pointers!T6/rad2deg+$D$4)","v":5.7576897824212034},{"$f":"-pointers!U5*COS(pointers!U6/rad2deg+$D$4)","v":6.617406370182719},{"$f":"-pointers!V5*COS(pointers!V6/rad2deg+$D$4)","v":5.6372047975149648},{"$f":"-pointers!W5*COS(pointers!W6/rad2deg+$D$4)","v":3.2293914180468981},{"$f":"-pointers!X5*COS(pointers!X6/rad2deg+$D$4)","v":2.7662336655076896},{"$f":"-pointers!Y5*COS(pointers!Y6/rad2deg+$D$4)","v":3.0168818163686368},{"$f":"-pointers!Z5*COS(pointers!Z6/rad2deg+$D$4)","v":2.0112545442457579},{"$f":"-pointers!AA5*COS(pointers!AA6/rad2deg+$D$4)","v":1.5862353408892336},{"$f":"-pointers!AB5*COS(pointers!AB6/rad2deg+$D$4)","v":-1.218119394023933}]
[null,"HourY",{"$f":"pointers!C5*SIN(pointers!C6/rad2deg+$D$4)","v":-1.5862487641926679},{"$f":"pointers!D5*SIN(pointers!D6/rad2deg+$D$4)","v":1.2181252206327711},{"$f":"pointers!E5*SIN(pointers!E6/rad2deg+$D$4)","v":2.1953069000959777},{"$f":"pointers!F5*SIN(pointers!F6/rad2deg+$D$4)","v":3.2929603501439666},{"$f":"pointers!G5*SIN(pointers!G6/rad2deg+$D$4)","v":3.2631775953673952},{"$f":"pointers!H5*SIN(pointers!H6/rad2deg+$D$4)","v":3.7815511898755698},{"$f":"pointers!I5*SIN(pointers!I6/rad2deg+$D$4)","v":6.2813893951297404},{"$f":"pointers!J5*SIN(pointers!J6/rad2deg+$D$4)","v":7.6849149018144161},{"$f":"pointers!K5*SIN(pointers!K6/rad2deg+$D$4)","v":6.8620100021480495},{"$f":"pointers!L5*SIN(pointers!L6/rad2deg+$D$4)","v":7.7471619143245514},{"$f":"pointers!M5*SIN(pointers!M6/rad2deg+$D$4)","v":9.6379375092623363},{"$f":"pointers!N5*SIN(pointers!N6/rad2deg+$D$4)","v":9.0288748989459506},{"$f":"pointers!O5*SIN(pointers!O6/rad2deg+$D$4)","v":11.95773843437858},{"$f":"pointers!P5*SIN(pointers!P6/rad2deg+$D$4)","v":11.835858212979195},{"$f":"pointers!Q5*SIN(pointers!Q6/rad2deg+$D$4)","v":8.4197601564405016},{"$f":"pointers!R5*SIN(pointers!R6/rad2deg+$D$4)","v":7.810691719539931},{"$f":"pointers!S5*SIN(pointers!S6/rad2deg+$D$4)","v":6.5289905971009823},{"$f":"pointers!T5*SIN(pointers!T6/rad2deg+$D$4)","v":5.0347798729837709},{"$f":"pointers!U5*SIN(pointers!U6/rad2deg+$D$4)","v":5.0049908023756808},{"$f":"pointers!V5*SIN(pointers!V6/rad2deg+$D$4)","v":3.2360349304162748},{"$f":"pointers!W5*SIN(pointers!W6/rad2deg+$D$4)","v":2.563402244877897},{"$f":"pointers!X5*SIN(pointers!X6/rad2deg+$D$4)","v":2.2886570970357032},{"$f":"pointers!Y5*SIN(pointers!Y6/rad2deg+$D$4)","v":1.4657503559829941},{"$f":"pointers!Z5*SIN(pointers!Z6/rad2deg+$D$4)","v":0.97716690398866268},{"$f":"pointers!AA5*SIN(pointers!AA6/rad2deg+$D$4)","v":-1.2181368738011411},{"$f":"pointers!AB5*SIN(pointers!AB6/rad2deg+$D$4)","v":-1.5862487641926679}]
[null,"MinX",{"$f":"-pointers!C31*COS(pointers!C32/rad2deg+$E$4)","v":-1.9999725843666349},{"$f":"-pointers!D31*COS(pointers!D32/rad2deg+$E$4)","v":1.047929845997079E-2},{"$f":"-pointers!E31*COS(pointers!E32/rad2deg+$E$4)","v":2.0052121951175002},{"$f":"-pointers!F31*COS(pointers!F32/rad2deg+$E$4)","v":3.0104381172912422},{"$f":"-pointers!G31*COS(pointers!G32/rad2deg+$E$4)","v":4.0104243902350003},{"$f":"-pointers!H31*COS(pointers!H32/rad2deg+$E$4)","v":6.0051572868925289},{"$f":"-pointers!I31*COS(pointers!I32/rad2deg+$E$4)","v":7.005143559836287},{"$f":"-pointers!J31*COS(pointers!J32/rad2deg+$E$4)","v":8.0077496573950366},{"$f":"-pointers!K31*COS(pointers!K32/rad2deg+$E$4)","v":10.005102378667559},{"$f":"-pointers!L31*COS(pointers!L32/rad2deg+$E$4)","v":11.007708476226309},{"$f":"-pointers!M31*COS(pointers!M32/rad2deg+$E$4)","v":13.509246053354699},{"$f":"-pointers!N31*COS(pointers!N32/rad2deg+$E$4)","v":14.002427645827597},{"$f":"-pointers!O31*COS(pointers!O32/rad2deg+$E$4)","v":20.000249423798145},{"$f":"-pointers!P31*COS(pointers!P32/rad2deg+$E$4)","v":19.999199988929284},{"$f":"-pointers!Q31*COS(pointers!Q32/rad2deg+$E$4)","v":13.997183784168641},{"$f":"-pointers!R31*COS(pointers!R32/rad2deg+$E$4)","v":13.494567169186958},{"$f":"-pointers!S31*COS(pointers!S32/rad2deg+$E$4)","v":12.991950554205273},{"$f":"-pointers!T31*COS(pointers!T32/rad2deg+$E$4)","v":8.9946291142782364},{"$f":"-pointers!U31*COS(pointers!U32/rad2deg+$E$4)","v":8.9893821187390301},{"$f":"-pointers!V31*COS(pointers!V32/rad2deg+$E$4)","v":5.9946704110057558},{"$f":"-pointers!W31*COS(pointers!W32/rad2deg+$E$4)","v":4.994684176581595},{"$f":"-pointers!X31*COS(pointers!X32/rad2deg+$E$4)","v":3.992074444387832},{"$f":"-pointers!Y31*COS(pointers!Y32/rad2deg+$E$4)","v":2.9920882099636716},{"$f":"-pointers!Z31*COS(pointers!Z32/rad2deg+$E$4)","v":1.9947254733091144},{"$f":"-pointers!AA31*COS(pointers!AA32/rad2deg+$E$4)","v":-1.049399107841301E-2},{"$f":"-pointers!AB31*COS(pointers!AB32/rad2deg+$E$4)","v":-1.9999725843666349}]
[null,"MinY",{"$f":"pointers!C31*SIN(pointers!C32/rad2deg+$E$4)","v":1.0471952150537986E-2},{"$f":"pointers!D31*SIN(pointers!D32/rad2deg+$E$4)","v":1.9999725458875146},{"$f":"pointers!E31*SIN(pointers!E32/rad2deg+$E$4)","v":0.98950697448378677},{"$f":"pointers!F31*SIN(pointers!F32/rad2deg+$E$4)","v":1.9842535981975595},{"$f":"pointers!G31*SIN(pointers!G32/rad2deg+$E$4)","v":1.9790139489675735},{"$f":"pointers!H31*SIN(pointers!H32/rad2deg+$E$4)","v":0.96854837756384571},{"$f":"pointers!I31*SIN(pointers!I32/rad2deg+$E$4)","v":0.96330872833386061},{"$f":"pointers!J31*SIN(pointers!J32/rad2deg+$E$4)","v":1.4580622155757528},{"$f":"pointers!K31*SIN(pointers!K32/rad2deg+$E$4)","v":0.9475897806439022},{"$f":"pointers!L31*SIN(pointers!L32/rad2deg+$E$4)","v":1.4423432678857968},{"$f":"pointers!M31*SIN(pointers!M32/rad2deg+$E$4)","v":1.7292400266939572},{"$f":"pointers!N31*SIN(pointers!N32/rad2deg+$E$4)","v":0.4266380472520816},{"$f":"pointers!O31*SIN(pointers!O32/rad2deg+$E$4)","v":-4.7943573053340722E-3},{"$f":"pointers!P31*SIN(pointers!P32/rad2deg+$E$4)","v":-0.20493853422653532},{"$f":"pointers!Q31*SIN(pointers!Q32/rad2deg+$E$4)","v":-0.57345105476096969},{"$f":"pointers!R31*SIN(pointers!R32/rad2deg+$E$4)","v":-1.0708206742034392},{"$f":"pointers!S31*SIN(pointers!S32/rad2deg+$E$4)","v":-1.5681902936459187},{"$f":"pointers!T31*SIN(pointers!T32/rad2deg+$E$4)","v":-1.0472091942770134},{"$f":"pointers!U31*SIN(pointers!U32/rad2deg+$E$4)","v":-2.0471954287011713},{"$f":"pointers!V31*SIN(pointers!V32/rad2deg+$E$4)","v":-1.0314682076593946},{"$f":"pointers!W31*SIN(pointers!W32/rad2deg+$E$4)","v":-1.0262212121201892},{"$f":"pointers!X31*SIN(pointers!X32/rad2deg+$E$4)","v":-1.5209673337930627},{"$f":"pointers!Y31*SIN(pointers!Y32/rad2deg+$E$4)","v":-1.5157203382538589},{"$f":"pointers!Z31*SIN(pointers!Z32/rad2deg+$E$4)","v":-1.0104802255025727},{"$f":"pointers!AA31*SIN(pointers!AA32/rad2deg+$E$4)","v":-1.9999724688483205},{"$f":"pointers!AB31*SIN(pointers!AB32/rad2deg+$E$4)","v":1.0471952150537986E-2}]
[null,"SecX",{"$f":"-pointers!C57*COS(pointers!C58/rad2deg+$F$4)","v":-1.640194094227803},{"$f":"-pointers!D57*COS(pointers!D58/rad2deg+$F$4)","v":-1.4856852476978066},{"$f":"-pointers!E57*COS(pointers!E58/rad2deg+$F$4)","v":-1.7115989168791441},{"$f":"-pointers!F57*COS(pointers!F58/rad2deg+$F$4)","v":-1.878109368458319},{"$f":"-pointers!G57*COS(pointers!G58/rad2deg+$F$4)","v":-1.4025812238191497},{"$f":"-pointers!H57*COS(pointers!H58/rad2deg+$F$4)","v":-1.093563530759156},{"$f":"-pointers!I57*COS(pointers!I58/rad2deg+$F$4)","v":-1.9021125785566735},{"$f":"-pointers!J57*COS(pointers!J58/rad2deg+$F$4)","v":-0.33302090315834926},{"$f":"-pointers!K57*COS(pointers!K58/rad2deg+$F$4)","v":0.45152493454081355},{"$f":"-pointers!L57*COS(pointers!L58/rad2deg+$F$4)","v":4.4687549443207351},{"$f":"-pointers!M57*COS(pointers!M58/rad2deg+$F$4)","v":4.3022444927415604},{"$f":"-pointers!N57*COS(pointers!N58/rad2deg+$F$4)","v":5.0867903304407216},{"$f":"-pointers!O57*COS(pointers!O58/rad2deg+$F$4)","v":6.3942659253320384},{"$f":"-pointers!P57*COS(pointers!P58/rad2deg+$F$4)","v":6.5846236798351887},{"$f":"-pointers!Q57*COS(pointers!Q58/rad2deg+$F$4)","v":6.0379712477641121},{"$f":"-pointers!R57*COS(pointers!R58/rad2deg+$F$4)","v":6.2044735774037916},{"$f":"-pointers!S57*COS(pointers!S58/rad2deg+$F$4)","v":5.4199218879615394},{"$f":"-pointers!T57*COS(pointers!T58/rad2deg+$F$4)","v":1.402601049244826},{"$f":"-pointers!U57*COS(pointers!U58/rad2deg+$F$4)","v":1.5691033788845095},{"$f":"-pointers!V57*COS(pointers!V58/rad2deg+$F$4)","v":1.9021080381638769},{"$f":"-pointers!W57*COS(pointers!W58/rad2deg+$F$4)","v":-0.1425223502616034},{"$f":"-pointers!X57*COS(pointers!X58/rad2deg+$F$4)","v":-0.45154703016288961},{"$f":"-pointers!Y57*COS(pointers!Y58/rad2deg+$F$4)","v":2.3979979378081832E-2},{"$f":"-pointers!Z57*COS(pointers!Z58/rad2deg+$F$4)","v":-0.76057171006417512},{"$f":"-pointers!AA57*COS(pointers!AA58/rad2deg+$F$4)","v":-1.2955056576475898},{"$f":"-pointers!AB57*COS(pointers!AB58/rad2deg+$F$4)","v":-1.4500179975982377}]
[null,"SecY",{"$f":"pointers!C57*SIN(pointers!C58/rad2deg+$F$4)","v":-4.7243796770856843},{"$f":"pointers!D57*SIN(pointers!D58/rad2deg+$F$4)","v":-4.2488515324465164},{"$f":"pointers!E57*SIN(pointers!E58/rad2deg+$F$4)","v":-3.6497163105833494},{"$f":"pointers!F57*SIN(pointers!F58/rad2deg+$F$4)","v":-2.5441511747750165},{"$f":"pointers!G57*SIN(pointers!G58/rad2deg+$F$4)","v":-2.6986600213050136},{"$f":"pointers!H57*SIN(pointers!H58/rad2deg+$F$4)","v":-1.7476037320266768},{"$f":"pointers!I57*SIN(pointers!I58/rad2deg+$F$4)","v":0.61803538611998776},{"$f":"pointers!J57*SIN(pointers!J58/rad2deg+$F$4)","v":2.2111302716166676},{"$f":"pointers!K57*SIN(pointers!K58/rad2deg+$F$4)","v":3.0076777143650073},{"$f":"pointers!L57*SIN(pointers!L58/rad2deg+$F$4)","v":15.371409474983384},{"$f":"pointers!M57*SIN(pointers!M58/rad2deg+$F$4)","v":16.476974610791721},{"$f":"pointers!N57*SIN(pointers!N58/rad2deg+$F$4)","v":17.273522053540059},{"$f":"pointers!O57*SIN(pointers!O58/rad2deg+$F$4)","v":20.003083844151071},{"$f":"pointers!P57*SIN(pointers!P58/rad2deg+$F$4)","v":19.941231932730577},{"$f":"pointers!Q57*SIN(pointers!Q58/rad2deg+$F$4)","v":16.964460003524248},{"$f":"pointers!R57*SIN(pointers!R58/rad2deg+$F$4)","v":15.858893644491669},{"$f":"pointers!S57*SIN(pointers!S58/rad2deg+$F$4)","v":15.062351965360371},{"$f":"pointers!T57*SIN(pointers!T58/rad2deg+$F$4)","v":2.6986497172951718},{"$f":"pointers!U57*SIN(pointers!U58/rad2deg+$F$4)","v":1.5930833582625912},{"$f":"pointers!V57*SIN(pointers!V58/rad2deg+$F$4)","v":-0.61804935980257103},{"$f":"pointers!W57*SIN(pointers!W58/rad2deg+$F$4)","v":-2.0566203781145194},{"$f":"pointers!X57*SIN(pointers!X58/rad2deg+$F$4)","v":-3.0076743971964577},{"$f":"pointers!Y57*SIN(pointers!Y58/rad2deg+$F$4)","v":-3.1621867371471009},{"$f":"pointers!Z57*SIN(pointers!Z58/rad2deg+$F$4)","v":-3.9587284162783956},{"$f":"pointers!AA57*SIN(pointers!AA58/rad2deg+$F$4)","v":-4.3106455538588522},{"$f":"pointers!AB57*SIN(pointers!AB58/rad2deg+$F$4)","v":-4.7861725633998189}]

{"sheet":"pointers","index":1,"n_rows":58,"n_cols":28,"rows_kept":58,"cut":false,"hidden":false,"merged":[]}
["rad2deg",{"$f":"180/3.1416","v":57.295645530939652}]
[]
["Hours","X",0,2,1,1.5,0.8,1,2.5,2.2000000000000002,1.5,1,1.5,0.5,0.1,{"$f":"-O3","v":-0.1},{"$f":"-N3","v":-0.5},{"$f":"-M3","v":-1.5},{"$f":"-L3","v":-1},{"$f":"-K3","v":-1.5},{"$f":"-J3","v":-2.2000000000000002},{"$f":"-I3","v":-2.5},{"$f":"-H3","v":-1},{"$f":"-G3","v":-0.8},{"$f":"-F3","v":-1.5},{"$f":"-E3","v":-1},{"$f":"-D3","v":-2},{"$f":"-C3","v":0}]
[null,"Y",-2,0,2,3,3.5,4,6,8,7.5,9,11,11,15,{"$f":"O4","v":15},{"$f":"N4","v":11},{"$f":"M4","v":11},{"$f":"L4","v":9},{"$f":"K4","v":7.5},{"$f":"J4","v":8},{"$f":"I4","v":6},{"$f":"H4","v":4},{"$f":"G4","v":3.5},{"$f":"F4","v":3},{"$f":"E4","v":2},{"$f":"D4","v":0},{"$f":"C4","v":-2}]
[null,"length",{"$f":"SQRT(C3*C3+C4*C4)","v":2},{"$f":"SQRT(D3*D3+D4*D4)","v":2},2.2360679774997898,3.3541019662496847,3.5902646142032486,4.1231056256176606,6.5,8.2969874050766155,7.6485292703891776,9.0553851381374173,11.101801655587259,11.01135777277262,15.000333329629711,15.000333329629711,11.01135777277262,11.101801655587259,9.0553851381374173,7.6485292703891776,8.2969874050766155,6.5,4.1231056256176606,3.5902646142032486,3.3541019662496847,2.2360679774997898,2,2]
[null,"angle",{"$f":"IF(C3>0,ATAN(C4/C3)*rad2deg,IF(C3=0,IF(C4>0,1,-1)*90,ATAN(C4/C3)*rad2deg+180))","v":-90},0,63.434800484764544,63.434800484764544,77.1248180890138,75.963578896182156,67.379977488262128,74.623574248796203,78.68988351480229,83.659612621524118,82.234641681210618,87.397233424750937,89.61782422981446,90.38217577018554,92.602766575249063,97.765358318789382,96.340387378475882,101.31011648519771,105.3764257512038,112.62002251173787,104.03642110381784,102.8751819109862,116.56519951523546,116.56519951523546,180,-90]
[]
[]
[]
[]
[]
[]
[]
[]
[]
[]
[]
[]
[]
[]
[]
[]
[]
[]
[]
[]
[]
[]
["Minutes","X",0,2,1,2,2,1,1,1.5,1,1.5,1.8,0.5,0.1,{"$f":"-O29","v":-0.1},{"$f":"-N29","v":-0.5},-1,-1.5,-1,-2,-1,-1,-1.5,-1.5,{"$f":"-E29","v":-1},{"$f":"-D29","v":-2},{"$f":"-C29","v":0}]
[null,"Y",-2,0,2,3,4,6,7,8,10,11,13.5,14,20,{"$f":"O30","v":20},{"$f":"N30","v":14},13.5,13,9,9,6,5,4,3,{"$f":"E30","v":2},{"$f":"D30","v":0},{"$f":"C30","v":-2}]
[null,"length",{"$f":"SQRT(C29*C29+C30*C30)","v":2},{"$f":"SQRT(D29*D29+D30*D30)","v":2},2.2360679774997898,3.6055512754639891,4.4721359549995796,6.0827625302982193,7.0710678118654755,8.1394102980498531,10.04987562112089,11.101801655587259,13.619471355379401,14.0089257261219,20.000249998437518,20.000249998437518,14.0089257261219,13.536986370680884,13.0862523283024,9.0553851381374173,9.2195444572928871,6.0827625302982193,5.0990195135927845,4.2720018726587652,3.3541019662496847,2.2360679774997898,2,2]
[null,"angle",{"$f":"IF(C29>0,ATAN(C30/C29)*rad2deg,IF(C29=0,IF(C30>0,1,-1)*90,ATAN(C30/C29)*rad2deg+180))","v":-90},0,63.434800484764544,56.309800797211366,63.434800484764544,80.537489460290487,81.869706198857884,79.380159098502787,84.28920975766242,82.234641681210618,82.405163932289312,87.954385835498812,89.713313700970502,90.286686299029498,92.045614164501188,94.236595351205708,96.582139722421829,96.340387378475882,102.52898887007517,99.462510539709513,101.31011648519771,110.55620760937789,116.56519951523546,116.56519951523546,180,-90]
[]
[]
[]
[]
[]
[]
[]
[]
[]
[]
[]
[]
[]
[]
[]
[]
[]
[]
[]
[]
[]
[]
["Seconds","X",0.1,0.1,0.5,1,0.5,0.5,2,1,0.5,0.5,1,0.5,0.1,{"$f":"-O55","v":-0.1},{"$f":"-N55","v":-0.5},{"$f":"-M55","v":-1},{"$f":"-L55","v":-0.5},{"$f":"-K55","v":-0.5},{"$f":"-J55","v":-1},{"$f":"-I55","v":-2},{"$f":"-H55","v":-0.5},{"$f":"-G55","v":-0.5},{"$f":"-F55","v":-1},{"$f":"-E55","v":-0.5},{"$f":"-D55","v":-0.1},{"$f":"-C55","v":-0.1}]
[null,"Y",-5,-4.5,-4,-3,-3,-2,0,2,3,16,17,18,21,{"$f":"O56","v":21},{"$f":"N56","v":18},{"$f":"M56","v":17},{"$f":"L56","v":16},{"$f":"K56","v":3},{"$f":"J56","v":2},{"$f":"I56","v":0},{"$f":"H56","v":-2},{"$f":"G56","v":-3},{"$f":"F56","v":-3},{"$f":"E56","v":-4},{"$f":"D56","v":-4.5},{"$f":"C56","v":-5}]
[null,"length",{"$f":"SQRT(C55*C55+C56*C56)","v":5.0009999000199947},{"$f":"SQRT(D55*D55+D56*D56)","v":4.5011109739707598},{"$f":"SQRT(E55*E55+E56*E56)","v":4.0311288741492746},{"$f":"SQRT(F55*F55+F56*F56)","v":3.1622776601683795},{"$f":"SQRT(G55*G55+G56*G56)","v":3.0413812651491097},{"$f":"SQRT(H55*H55+H56*H56)","v":2.0615528128088303},{"$f":"SQRT(I55*I55+I56*I56)","v":2},{"$f":"SQRT(J55*J55+J56*J56)","v":2.2360679774997898},{"$f":"SQRT(K55*K55+K56*K56)","v":3.0413812651491097},{"$f":"SQRT(L55*L55+L56*L56)","v":16.007810593582121},{"$f":"SQRT(M55*M55+M56*M56)","v":17.029386365926403},{"$f":"SQRT(N55*N55+N56*N56)","v":18.006943105369107},{"$f":"SQRT(O55*O55+O56*O56)","v":21.000238093888363},{"$f":"SQRT(P55*P55+P56*P56)","v":21.000238093888363},{"$f":"SQRT(Q55*Q55+Q56*Q56)","v":18.006943105369107},{"$f":"SQRT(R55*R55+R56*R56)","v":17.029386365926403},{"$f":"SQRT(S55*S55+S56*S56)","v":16.007810593582121},{"$f":"SQRT(T55*T55+T56*T56)","v":3.0413812651491097},{"$f":"SQRT(U55*U55+U56*U56)","v":2.2360679774997898},{"$f":"SQRT(V55*V55+V56*V56)","v":2},{"$f":"SQRT(W55*W55+W56*W56)","v":2.0615528128088303},{"$f":"SQRT(X55*X55+X56*X56)","v":3.0413812651491097},{"$f":"SQRT(Y55*Y55+Y56*Y56)","v":3.1622776601683795},{"$f":"SQRT(Z55*Z55+Z56*Z56)","v":4.0311288741492746},{"$f":"SQRT(AA55*AA55+AA56*AA56)","v":4.5011109739707598},{"$f":"SQRT(AB55*AB55+AB56*AB56)","v":5.0009999000199947}]
[null,"angle",{"$f":"IF(C55>0,ATAN(C56/C55)*rad2deg,IF(C55=0,IF(C56>0,1,-1)*90,ATAN(C56/C55)*rad2deg+180))","v":-88.854029382452993},-88.726762498176711,-82.874789853789252,-71.564883827249105,-80.537489460290487,-75.963578896182156,0,63.434800484764544,80.537489460290487,88.209883118676188,86.63333675014367,88.408652990917247,89.726955196279732,90.273044803720268,91.591347009082753,93.36666324985633,91.790116881323812,99.462510539709513,116.56519951523546,180,255.96357889618216,260.53748946029049,251.5648838272491,262.87478985378925,268.7267624981767,268.85402938245301]

{"sheet":"Sheet3","index":2,"n_rows":0,"n_cols":0,"rows_kept":0,"cut":false,"hidden":false,"merged":[]}