{"text_format":"1","workbook":"xlsx","n_sheets":3,"sheets":["machine","elements","solution"],"not_rendered":{"charts":4,"images":0,"macros":1,"external_links":0,"defined_names":16,"comments":0,"pivot_tables":0},"unopened":[],"bounds":{"document_bytes":16777216,"sheet_cells":100000,"rows_first":2000,"rows_last":500,"rows_between":2000,"halvings":0,"cell_chars":16384,"cell_head_chars":4096},"cells_cut":0,"cells_raw":0,"read":"whole","date_system":"1900"}

{"sheet":"machine","index":0,"n_rows":32,"n_cols":31,"rows_kept":32,"cut":false,"hidden":false,"merged":[]}
[]
[null,"Left axle X",18,null,"Delta H",null,-3,null,null,"Parameters modified",null,null,"no"]
[null,"Left axle Y",25,null,"Axle distance",null,150]
[null,"Wall width",10,null,"X offset",null,183,null,null,"Calculate"]
[null,null,null,null,"Right axle offset",null,-18]
[null,null,null,null,"Window width",null,4]
[]
[null,"point",1,2,3,4,5,6,7,8,9,10,11,12,13,14,15,16,17,18,19,20,21,22,23,24,25,26,27,28,29]
[null,"Left side X",{"$f":"IF(elements!C3=\"\",\"\",elements!C3)","v":-10},{"$f":"IF(elements!D3=\"\",\"\",elements!D3)","v":0},{"$f":"IF(elements!E3=\"\",\"\",elements!E3)","v":0},{"$f":"IF(elements!F3=\"\",\"\",elements!F3)","v":23},{"$f":"IF(elements!G3=\"\",\"\",elements!G3)","v":28},{"$f":"IF(elements!H3=\"\",\"\",elements!H3)","v":28},{"$f":"IF(elements!I3=\"\",\"\",elements!I3)","v":23},{"$f":"IF(elements!J3=\"\",\"\",elements!J3)","v":0},{"$f":"IF(elements!K3=\"\",\"\",elements!K3)","v":0},{"$f":"IF(elements!L3=\"\",\"\",elements!L3)","v":-10},{"$f":"IF(elements!M3=\"\",\"\",elements!M3)","v":-10},null,{"$f":"IF(elements!O3=\"\",\"\",elements!O3)","v":21},{"$f":"IF(elements!P3=\"\",\"\",elements!P3)","v":20.598074374748816},{"$f":"IF(elements!Q3=\"\",\"\",elements!Q3)","v":19.499993637817639},{"$f":"IF(elements!R3=\"\",\"\",elements!R3)","v":17.999988980384689},{"$f":"IF(elements!S3=\"\",\"\",elements!S3)","v":16.49998727566226},{"$f":"IF(elements!T3=\"\",\"\",elements!T3)","v":15.401914605682613},{"$f":"IF(elements!U3=\"\",\"\",elements!U3)","v":15.000000000080956},{"$f":"IF(elements!V3=\"\",\"\",elements!V3)","v":15.401936644959971},{"$f":"IF(elements!W3=\"\",\"\",elements!W3)","v":16.500025448783422},{"$f":"IF(elements!X3=\"\",\"\",elements!X3)","v":18.000033058845929},{"$f":"IF(elements!Y3=\"\",\"\",elements!Y3)","v":19.500031810776889},{"$f":"IF(elements!Z3=\"\",\"\",elements!Z3)","v":20.59809641374574},{"$f":"IF(elements!AA3=\"\",\"\",elements!AA3)","v":20.999999999676181}]
[null,"Left side Y",{"$f":"IF(elements!C4=\"\",\"\",elements!C4)","v":0},{"$f":"IF(elements!D4=\"\",\"\",elements!D4)","v":0},{"$f":"IF(elements!E4=\"\",\"\",elements!E4)","v":15},{"$f":"IF(elements!F4=\"\",\"\",elements!F4)","v":15},{"$f":"IF(elements!G4=\"\",\"\",elements!G4)","v":20},{"$f":"IF(elements!H4=\"\",\"\",elements!H4)","v":30},{"$f":"IF(elements!I4=\"\",\"\",elements!I4)","v":35},{"$f":"IF(elements!J4=\"\",\"\",elements!J4)","v":35},{"$f":"IF(elements!K4=\"\",\"\",elements!K4)","v":190},{"$f":"IF(elements!L4=\"\",\"\",elements!L4)","v":190},{"$f":"IF(elements!M4=\"\",\"\",elements!M4)","v":0},null,{"$f":"IF(elements!O4=\"\",\"\",elements!O4)","v":25},{"$f":"IF(elements!P4=\"\",\"\",elements!P4)","v":26.500003181087809},{"$f":"IF(elements!Q4=\"\",\"\",elements!Q4)","v":27.598079884550629},{"$f":"IF(elements!R4=\"\",\"\",elements!R4)","v":27.99999999997976},{"$f":"IF(elements!S4=\"\",\"\",elements!S4)","v":27.598068864911951},{"$f":"IF(elements!T4=\"\",\"\",elements!T4)","v":26.499984094527228},{"$f":"IF(elements!U4=\"\",\"\",elements!U4)","v":24.999977960769382},{"$f":"IF(elements!V4=\"\",\"\",elements!V4)","v":23.499977732432566},{"$f":"IF(elements!W4=\"\",\"\",elements!W4)","v":22.401909095950909},{"$f":"IF(elements!X4=\"\",\"\",elements!X4)","v":22.000000000182148},{"$f":"IF(elements!Y4=\"\",\"\",elements!Y4)","v":22.401942154866948},{"$f":"IF(elements!Z4=\"\",\"\",elements!Z4)","v":23.500034992114308},{"$f":"IF(elements!AA4=\"\",\"\",elements!AA4)","v":25.00004407846124}]
[null,"Right side X",{"$f":"X_offset+elements!C32*COS((elements!C33/rad2deg+Right_side_rad))","v":184.11409988036803},{"$f":"X_offset+elements!D32*COS((elements!D33/rad2deg+Right_side_rad))","v":185.96932918348244},{"$f":"X_offset+elements!E32*COS((elements!E33/rad2deg+Right_side_rad))","v":184.85519938905816},{"$f":"X_offset+elements!F32*COS((elements!F33/rad2deg+Right_side_rad))","v":181.88585919350436},{"$f":"X_offset+elements!G32*COS((elements!G33/rad2deg+Right_side_rad))","v":180.03066453002418},{"$f":"X_offset+elements!H32*COS((elements!H33/rad2deg+Right_side_rad))","v":181.14480061094181},{"$f":"X_offset+elements!I32*COS((elements!I33/rad2deg+Right_side_rad))","v":184.11414080649564},null,{"$f":"X_offset+elements!K32*COS((elements!K33/rad2deg+Right_side_rad))","v":183},{"$f":"X_offset+elements!L32*COS((elements!L33/rad2deg+Right_side_rad))","v":364.05456451637292},{"$f":"X_offset+elements!M32*COS((elements!M33/rad2deg+Right_side_rad))","v":362.56880472079729},{"$f":"X_offset+elements!N32*COS((elements!N33/rad2deg+Right_side_rad))","v":330.07187934683424},{"$f":"X_offset+elements!O32*COS((elements!O33/rad2deg+Right_side_rad))","v":321.53029004695969},{"$f":"X_offset+elements!P32*COS((elements!P33/rad2deg+Right_side_rad))","v":315.03100489729036},{"$f":"X_offset+elements!Q32*COS((elements!Q33/rad2deg+Right_side_rad))","v":305.74616907615803},{"$f":"X_offset+elements!R32*COS((elements!R33/rad2deg+Right_side_rad))","v":302.96061840469508},{"$f":"X_offset+elements!S32*COS((elements!S33/rad2deg+Right_side_rad))","v":311.50220770456963},{"$f":"X_offset+elements!T32*COS((elements!T33/rad2deg+Right_side_rad))","v":184.29995695505716},{"$f":"X_offset+elements!U32*COS((elements!U33/rad2deg+Right_side_rad))","v":178.35798178992701},{"$f":"X_offset+elements!V32*COS((elements!V33/rad2deg+Right_side_rad))","v":175.57253104358733},{"$f":"X_offset+elements!W32*COS((elements!W33/rad2deg+Right_side_rad))","v":183},null,{"$f":"X_offset+elements!Y32*COS((elements!Y33/rad2deg+Right_side_rad))","v":315.21644180839246},{"$f":"X_offset+elements!Z32*COS((elements!Z33/rad2deg+Right_side_rad))","v":317.07165379173978},{"$f":"X_offset+elements!AA32*COS((elements!AA33/rad2deg+Right_side_rad))","v":315.95752085398874},{"$f":"X_offset+elements!AB32*COS((elements!AB33/rad2deg+Right_side_rad))","v":312.98818065843489},{"$f":"X_offset+elements!AC32*COS((elements!AC33/rad2deg+Right_side_rad))","v":311.13298599495477},{"$f":"X_offset+elements!AD32*COS((elements!AD33/rad2deg+Right_side_rad))","v":312.24713939575292},{"$f":"X_offset+elements!AE32*COS((elements!AE33/rad2deg+Right_side_rad))","v":315.21648273439973}]
[null,"Right side Y",{"$f":"elements!C32*SIN((elements!C33/rad2deg+Right_side_rad))+Delta_H+Left_axle_Y","v":19.214541068950414},{"$f":"elements!D32*SIN((elements!D33/rad2deg+Right_side_rad))+Delta_H+Left_axle_Y","v":21.57211660452926},{"$f":"elements!E32*SIN((elements!E33/rad2deg+Right_side_rad))+Delta_H+Left_axle_Y","v":24.357590979546323},{"$f":"elements!F32*SIN((elements!F33/rad2deg+Right_side_rad))+Delta_H+Left_axle_Y","v":24.785442561479464},{"$f":"elements!G32*SIN((elements!G33/rad2deg+Right_side_rad))+Delta_H+Left_axle_Y","v":22.427839767604116},{"$f":"elements!H32*SIN((elements!H33/rad2deg+Right_side_rad))+Delta_H+Left_axle_Y","v":19.642409020453677},{"$f":"elements!I32*SIN((elements!I33/rad2deg+Right_side_rad))+Delta_H+Left_axle_Y","v":19.214557438520536},null,{"$f":"elements!K32*SIN((elements!K33/rad2deg+Right_side_rad))+Delta_H+Left_axle_Y","v":22},{"$f":"elements!L32*SIN((elements!L33/rad2deg+Right_side_rad))+Delta_H+Left_axle_Y","v":94.417157274961809},{"$f":"elements!M32*SIN((elements!M33/rad2deg+Right_side_rad))+Delta_H+Left_axle_Y","v":98.131756653476515},{"$f":"elements!N32*SIN((elements!N33/rad2deg+Right_side_rad))+Delta_H+Left_axle_Y","v":85.133685979754318},{"$f":"elements!O32*SIN((elements!O33/rad2deg+Right_side_rad))+Delta_H+Left_axle_Y","v":106.48880836835862},{"$f":"elements!P32*SIN((elements!P33/rad2deg+Right_side_rad))+Delta_H+Left_axle_Y","v":109.27435903982159},{"$f":"elements!Q32*SIN((elements!Q33/rad2deg+Right_side_rad))+Delta_H+Left_axle_Y","v":105.5606245616153},{"$f":"elements!R32*SIN((elements!R33/rad2deg+Right_side_rad))+Delta_H+Left_axle_Y","v":99.061339411945951},{"$f":"elements!S32*SIN((elements!S33/rad2deg+Right_side_rad))+Delta_H+Left_axle_Y","v":77.706217023341679},{"$f":"elements!T32*SIN((elements!T33/rad2deg+Right_side_rad))+Delta_H+Left_axle_Y","v":26.828054671914821},{"$f":"elements!U32*SIN((elements!U33/rad2deg+Right_side_rad))+Delta_H+Left_axle_Y","v":41.683791985726501},{"$f":"elements!V32*SIN((elements!V33/rad2deg+Right_side_rad))+Delta_H+Left_axle_Y","v":40.569671642264595},{"$f":"elements!W32*SIN((elements!W33/rad2deg+Right_side_rad))+Delta_H+Left_axle_Y","v":22},null,{"$f":"elements!Y32*SIN((elements!Y33/rad2deg+Right_side_rad))+Delta_H+Left_axle_Y","v":95.34720523324647},{"$f":"elements!Z32*SIN((elements!Z33/rad2deg+Right_side_rad))+Delta_H+Left_axle_Y","v":97.704794398037194},{"$f":"elements!AA32*SIN((elements!AA33/rad2deg+Right_side_rad))+Delta_H+Left_axle_Y","v":100.49024695913249},{"$f":"elements!AB32*SIN((elements!AB33/rad2deg+Right_side_rad))+Delta_H+Left_axle_Y","v":100.91809854106559},{"$f":"elements!AC32*SIN((elements!AC33/rad2deg+Right_side_rad))+Delta_H+Left_axle_Y","v":98.560495747190274},{"$f":"elements!AD32*SIN((elements!AD33/rad2deg+Right_side_rad))+Delta_H+Left_axle_Y","v":95.775051371047709},{"$f":"elements!AE32*SIN((elements!AE33/rad2deg+Right_side_rad))+Delta_H+Left_axle_Y","v":95.347221603117262}]
[null,"Motor X",{"$f":"Left_axle_X+elements!C58*COS((elements!C59/rad2deg+Motor_angle_rad))","v":19.451940046051661},{"$f":"Left_axle_X+elements!D58*COS((elements!D59/rad2deg+Motor_angle_rad))","v":16.548040667918517},null,{"$f":"Left_axle_X+elements!F58*COS((elements!F59/rad2deg+Motor_angle_rad))","v":20.625221151720908},{"$f":"Left_axle_X+elements!G58*COS((elements!G59/rad2deg+Motor_angle_rad))","v":15.374757515043061},null,{"$f":"Left_axle_X+elements!I58*COS((elements!I59/rad2deg+Motor_angle_rad))","v":8.8063513344439137},{"$f":"Left_axle_X+elements!J58*COS((elements!J59/rad2deg+Motor_angle_rad))","v":13.602007706616423},{"$f":"Left_axle_X+elements!K58*COS((elements!K59/rad2deg+Motor_angle_rad))","v":30.106071525973206},{"$f":"Left_axle_X+elements!L58*COS((elements!L59/rad2deg+Motor_angle_rad))","v":40.896165635731734},{"$f":"Left_axle_X+elements!M58*COS((elements!M59/rad2deg+Motor_angle_rad))","v":139.9205485518724},{"$f":"Left_axle_X+elements!N58*COS((elements!N59/rad2deg+Motor_angle_rad))","v":130.32935378764262},{"$f":"Left_axle_X+elements!O58*COS((elements!O59/rad2deg+Motor_angle_rad))","v":196.34560906506974},{"$f":"Left_axle_X+elements!P58*COS((elements!P59/rad2deg+Motor_angle_rad))","v":195.14670971954104},{"$f":"Left_axle_X+elements!Q58*COS((elements!Q59/rad2deg+Motor_angle_rad))","v":323.29591114042898},{"$f":"Left_axle_X+elements!R58*COS((elements!R59/rad2deg+Motor_angle_rad))","v":318.49969283461184},{"$f":"Left_axle_X+elements!S58*COS((elements!S59/rad2deg+Motor_angle_rad))","v":190.35072393799061},{"$f":"Left_axle_X+elements!T58*COS((elements!T59/rad2deg+Motor_angle_rad))","v":187.95285392604325},{"$f":"Left_axle_X+elements!U58*COS((elements!U59/rad2deg+Motor_angle_rad))","v":22.912515195546234},{"$f":"Left_axle_X+elements!V58*COS((elements!V59/rad2deg+Motor_angle_rad))","v":25.310385207493617},{"$f":"Left_axle_X+elements!W58*COS((elements!W59/rad2deg+Motor_angle_rad))","v":8.8063513344439137},null,{"$f":"Left_axle_X+elements!Y58*COS((elements!Y59/rad2deg+Motor_angle_rad))","v":315.5542615109822},{"$f":"Left_axle_X+elements!Z58*COS((elements!Z59/rad2deg+Motor_angle_rad))","v":312.64982486086905},null,{"$f":"Left_axle_X+elements!AB58*COS((elements!AB59/rad2deg+Motor_angle_rad))","v":316.72700534467145},{"$f":"Left_axle_X+elements!AC58*COS((elements!AC59/rad2deg+Motor_angle_rad))","v":311.47707897997356}]
[null,"Motor Y",{"$f":"Left_axle_Y+elements!C58*SIN((elements!C59/rad2deg+Motor_angle_rad))","v":22.374762848298939},{"$f":"Left_axle_Y+elements!D58*SIN((elements!D59/rad2deg+Motor_angle_rad))","v":27.625226485083047},null,{"$f":"Left_axle_Y+elements!F58*SIN((elements!F59/rad2deg+Motor_angle_rad))","v":26.451968975067011},{"$f":"Left_axle_Y+elements!G58*SIN((elements!G59/rad2deg+Motor_angle_rad))","v":23.54806959699264},null,{"$f":"Left_axle_Y+elements!I58*SIN((elements!I59/rad2deg+Motor_angle_rad))","v":33.029746211077828},{"$f":"Left_axle_Y+elements!J58*SIN((elements!J59/rad2deg+Motor_angle_rad))","v":13.613268081344032},{"$f":"Left_axle_Y+elements!K58*SIN((elements!K59/rad2deg+Motor_angle_rad))","v":17.689525856141696},{"$f":"Left_axle_Y+elements!L58*SIN((elements!L59/rad2deg+Motor_angle_rad))","v":-25.997701900979195},{"$f":"Left_axle_Y+elements!M58*SIN((elements!M59/rad2deg+Motor_angle_rad))","v":-1.540155252193216},{"$f":"Left_axle_Y+elements!N58*SIN((elements!N59/rad2deg+Motor_angle_rad))","v":37.29293608746984},{"$f":"Left_axle_Y+elements!O58*SIN((elements!O59/rad2deg+Motor_angle_rad))","v":53.597967186660462},{"$f":"Left_axle_Y+elements!P58*SIN((elements!P59/rad2deg+Motor_angle_rad))","v":58.452103604118335},{"$f":"Left_axle_Y+elements!Q58*SIN((elements!Q59/rad2deg+Motor_angle_rad))","v":90.103046326076694},{"$f":"Left_axle_Y+elements!R58*SIN((elements!R59/rad2deg+Motor_angle_rad))","v":109.52179959219947},{"$f":"Left_axle_Y+elements!S58*SIN((elements!S59/rad2deg+Motor_angle_rad))","v":77.869915434494033},{"$f":"Left_axle_Y+elements!T58*SIN((elements!T59/rad2deg+Motor_angle_rad))","v":87.578170653935018},{"$f":"Left_axle_Y+elements!U58*SIN((elements!U59/rad2deg+Motor_angle_rad))","v":46.81438045082939},{"$f":"Left_axle_Y+elements!V58*SIN((elements!V59/rad2deg+Motor_angle_rad))","v":37.10612523138839},{"$f":"Left_axle_Y+elements!W58*SIN((elements!W59/rad2deg+Motor_angle_rad))","v":33.029746211077828},null,{"$f":"Left_axle_Y+elements!Y58*SIN((elements!Y59/rad2deg+Motor_angle_rad))","v":95.507622925551217},{"$f":"Left_axle_Y+elements!Z58*SIN((elements!Z59/rad2deg+Motor_angle_rad))","v":100.76026184947838},null,{"$f":"Left_axle_Y+elements!AB58*SIN((elements!AB59/rad2deg+Motor_angle_rad))","v":99.587004339462311},{"$f":"Left_axle_Y+elements!AC58*SIN((elements!AC59/rad2deg+Motor_angle_rad))","v":96.680929674244894}]
[]
[]
[null,"Arm length",305]
[]
[null,"Motor angle",-76.126273555529636,"deg",{"$f":"C19/rad2deg","v":-1.3286572277891773},"rad"]
[null,"Motor right axle X",{"$f":"Left_axle_X-Arm_length*SIN(Motor_angle_rad)","v":314.10232146493053}]
[null,"Motor right axle Y",{"$f":"Left_axle_Y+Arm_length*COS(Motor_angle_rad)","v":98.132860077252232}]
[]
[null,"Window 2nd axle Y",{"$f":"Left_axle_Y+Delta_H+SQRT((Rotation_radius*Rotation_radius)-(C20-X_offset)*(C20-X_offset))","v":98.132655979586133}]
[null,"Window new DX",{"$f":"C20-X_offset","v":131.10232146493053}]
[null,"Window new DY",{"$f":"C23-(Delta_H+Left_axle_Y)","v":76.132655979586133}]
[null,"Motor to window",{"$f":"C23-C21","v":-2.0409766609930102E-4}]
[null,"Window new angle",{"$f":"IF(C24>0,ATAN(C25/C24)*rad2deg,IF(C24=0,IF(C23>0,1,-1)*90,ATAN(C25/C24)*rad2deg+180))","v":30.144167420948701}]
[null,"Window angle delta",{"$f":"C27-Default_angle","v":-68.199915110139486},"deg",{"$f":"C28/rad2deg","v":-1.1903158517223011},"rad"]
[]
[null,"Animate"]
[]
[null,"Create pics"]

{"sheet":"elements","index":1,"n_rows":59,"n_cols":31,"rows_kept":59,"cut":false,"hidden":false,"merged":[]}
["rad2deg",{"$f":"180/3.1416","v":57.295645530939652}]
[null,null,null,null,null,null,null,null,null,null,null,null,null,null,0,1,2,3,4,5,6,7,8,9,10,11,12]
["Left side","X",{"$f":"-Wall_width","v":-10},0,0,{"$f":"Left_axle_X+5","v":23},{"$f":"Left_axle_X+10","v":28},{"$f":"Left_axle_X+10","v":28},{"$f":"Left_axle_X+5","v":23},0,0,{"$f":"-Wall_width","v":-10},{"$f":"-Wall_width","v":-10},null,{"$f":"machine!$C$2+3*COS(O2/12*360/rad2deg)","v":21},{"$f":"machine!$C$2+3*COS(P2/12*360/rad2deg)","v":20.598074374748816},{"$f":"machine!$C$2+3*COS(Q2/12*360/rad2deg)","v":19.499993637817639},{"$f":"machine!$C$2+3*COS(R2/12*360/rad2deg)","v":17.999988980384689},{"$f":"machine!$C$2+3*COS(S2/12*360/rad2deg)","v":16.49998727566226},{"$f":"machine!$C$2+3*COS(T2/12*360/rad2deg)","v":15.401914605682613},{"$f":"machine!$C$2+3*COS(U2/12*360/rad2deg)","v":15.000000000080956},{"$f":"machine!$C$2+3*COS(V2/12*360/rad2deg)","v":15.401936644959971},{"$f":"machine!$C$2+3*COS(W2/12*360/rad2deg)","v":16.500025448783422},{"$f":"machine!$C$2+3*COS(X2/12*360/rad2deg)","v":18.000033058845929},{"$f":"machine!$C$2+3*COS(Y2/12*360/rad2deg)","v":19.500031810776889},{"$f":"machine!$C$2+3*COS(Z2/12*360/rad2deg)","v":20.59809641374574},{"$f":"machine!$C$2+3*COS(AA2/12*360/rad2deg)","v":20.999999999676181}]
[null,"Y",0,0,{"$f":"Left_axle_Y-10","v":15},{"$f":"Left_axle_Y-10","v":15},{"$f":"Left_axle_Y-5","v":20},{"$f":"Left_axle_Y+5","v":30},{"$f":"Left_axle_Y+10","v":35},{"$f":"Left_axle_Y+10","v":35},190,190,0,null,{"$f":"machine!$C$3+3*SIN(O2/12*360/rad2deg)","v":25},{"$f":"machine!$C$3+3*SIN(P2/12*360/rad2deg)","v":26.500003181087809},{"$f":"machine!$C$3+3*SIN(Q2/12*360/rad2deg)","v":27.598079884550629},{"$f":"machine!$C$3+3*SIN(R2/12*360/rad2deg)","v":27.99999999997976},{"$f":"machine!$C$3+3*SIN(S2/12*360/rad2deg)","v":27.598068864911951},{"$f":"machine!$C$3+3*SIN(T2/12*360/rad2deg)","v":26.499984094527228},{"$f":"machine!$C$3+3*SIN(U2/12*360/rad2deg)","v":24.999977960769382},{"$f":"machine!$C$3+3*SIN(V2/12*360/rad2deg)","v":23.499977732432566},{"$f":"machine!$C$3+3*SIN(W2/12*360/rad2deg)","v":22.401909095950909},{"$f":"machine!$C$3+3*SIN(X2/12*360/rad2deg)","v":22.000000000182148},{"$f":"machine!$C$3+3*SIN(Y2/12*360/rad2deg)","v":22.401942154866948},{"$f":"machine!$C$3+3*SIN(Z2/12*360/rad2deg)","v":23.500034992114308},{"$f":"machine!$C$3+3*SIN(AA2/12*360/rad2deg)","v":25.00004407846124}]
[null,"length",{"$f":"SQRT(C3*C3+C4*C4)","v":10},{"$f":"SQRT(D3*D3+D4*D4)","v":0},15,27.459060435491963,34.409301068170507,41.036569057366385,41.880783182743848,35,190,190.26297590440447,10,0,32.649655434629018,33.563832268460466,33.792066601333609,33.286627995230106,32.15436183738435,30.650744371563565,29.154740575786015,28.097483977042984,27.82258742377762,28.425361741366824,29.700138937912655,31.249531524497485,32.649689185525247,{"$f":"SQRT(AB3*AB3+AB4*AB4)","v":0},0]
[null,"angle",{"$f":"IF(C3>0,ATAN(C4/C3)*rad2deg,IF(C3=0,IF(C4>0,1,-1)*90,ATAN(C4/C3)*rad2deg+180))","v":180},-90,90,33.111264531832262,35.537594689619262,46.974824163309187,56.689236611344363,90,90,93.012990917649645,180,-90,49.969623877393055,52.142464476478672,54.755965605898503,57.264655773588089,59.126032135308549,59.83450568989997,59.036083131822771,56.758946296545119,53.62653836878674,50.710422981831869,48.961564250410902,48.764885556668389,49.969673629729563,{"$f":"IF(AB3>0,ATAN(AB4/AB3)*rad2deg,IF(AB3=0,IF(AB4>0,1,-1)*90,ATAN(AB4/AB3)*rad2deg+180))","v":-90},-90]
[]
[]
[]
[]
[]
[]
[]
[]
[]
[]
[]
[]
[]
[]
[]
[]
[]
[]
[]
[]
[]
[]
[null,null,0,1,2,3,4,5,6,null,null,null,null,null,null,null,null,null,null,null,null,null,null,null,0,1,2,3,4,5,6]
["Window","X",{"$f":"$A$31+3*COS(C29/6*360/rad2deg)","v":3},1.4999936378176371,-1.5000127243377408,-2.9999999999190452,-1.499974551216579,1.50003181077689,2.9999999996761817,null,0,0,{"$f":"-Window_width","v":-4},{"$f":"-Window_width","v":-4},{"$f":"-Window_width+Right_axle_offset-5","v":-27},{"$f":"-Window_width+Right_axle_offset-10","v":-32},{"$f":"-Window_width+Right_axle_offset-10","v":-32},{"$f":"-Window_width+Right_axle_offset-5","v":-27},{"$f":"-Window_width","v":-4},{"$f":"-Window_width","v":-4},-20,-20,0,null,{"$f":"Right_axle_offset-Window_width+3*COS(Y29/6*360/rad2deg)","v":-19},-20.500006362182361,-23.50001272433774,-24.999999999919044,-23.499974551216578,-20.499968189223111,-19.000000000323819]
[0,"Y",{"$f":"$A$32+3*SIN(C29/6*360/rad2deg)","v":0},2.5980798845506294,2.5980688649119497,-2.2039230619930613E-5,-2.5980909040490907,-2.5980578451330532,4.4078461238671768E-5,null,0,195,195,{"$f":"Axle_distance+10","v":160},{"$f":"Axle_distance+10","v":160},{"$f":"Axle_distance+5","v":155},{"$f":"Axle_distance-5","v":145},{"$f":"Axle_distance-10","v":140},{"$f":"Axle_distance-10","v":140},3,3,0,0,null,{"$f":"Axle_distance+3*SIN(Y29/6*360/rad2deg)","v":150},152.59807988455063,152.59806886491194,149.99997796076937,147.40190909595091,147.40194215486696,150.00004407846123]
[0,"length",{"$f":"SQRT(C30*C30+C31*C31)","v":3},{"$f":"SQRT(D30*D30+D31*D31)","v":3},2.9999999999999996,2.9999999999999996,2.9999999999999996,3,3.0000000000000004,0,0,195,195.04102132628407,160.04999218994044,162.26213359869271,158.26875876179733,148.48905683584903,142.57980221616245,140.05713120009278,5,20.223748416156685,20,{"$f":"SQRT(W30*W30+W31*W31)","v":0},{"$f":"SQRT(X30*X30+X31*X31)","v":0},151.19854496654392,153.96890674841208,154.39695987727364,152.06904151807905,149.26343024679156,148.82063447918071,151.19858869563768]
[null,"angle",{"$f":"IF(C30>0,ATAN(C31/C30)*rad2deg,IF(C30=0,IF(C31>0,1,-1)*90,ATAN(C31/C30)*rad2deg+180))","v":0},60,120.00042091731513,180.00042091731513,240.00042091731513,-59.999158165369749,8.4183463025702264E-4,-90,-90,90,91.175340947930664,91.4323032939662,99.578610979651302,101.66510355085474,102.44528455339265,100.91606736432882,91.6367836732542,143.13018857181333,171.46925433864607,180,{"$f":"IF(W30>0,ATAN(W31/W30)*rad2deg,IF(W30=0,IF(W31>0,1,-1)*90,ATAN(W31/W30)*rad2deg+180))","v":-90},{"$f":"IF(X30>0,ATAN(X31/X30)*rad2deg,IF(X30=0,IF(X31>0,1,-1)*90,ATAN(X31/X30)*rad2deg+180))","v":-90},97.21921440235576,97.651491462190663,98.754930010486092,99.462511904816864,99.058501765558262,97.917832386635212,97.219212303507206]
[]
[null,null,null,null,null,null,null,null,null,null,null,null,"Rotation radius",null,null,{"$f":"SQRT((-Window_width+Right_axle_offset)*(-Window_width+Right_axle_offset)+Axle_distance*Axle_distance)","v":151.6047492659778}]
[null,null,null,null,null,null,null,null,null,null,null,null,"Default angle",null,null,{"$f":"IF(-18>0,ATAN(Axle_distance/(-Window_width+Right_axle_offset))*rad2deg,IF(-18=0,IF(Axle_distance>0,1,-1)*90,ATAN(Axle_distance/(-Window_width+Right_axle_offset))*rad2deg+180))","v":98.344082531088191},"deg",{"$f":"Default_angle/rad2deg","v":1.7164320537759259},"rad"]
[]
[]
[]
[]
[]
[]
[]
[]
[]
[]
[]
[]
[]
[]
[]
[]
[]
[]
[]
["Motor","X",{"$f":"$A$57+3*COS(Right_side_angle/2/rad2deg)","v":2.8967978466987594},{"$f":"$A$57-3*COS(Right_side_angle/2/rad2deg)","v":-2.8967978466987594},null,{"$f":"$A$57+3*COS((Right_side_angle/2+90)/rad2deg)","v":-0.78011463062191666},{"$f":"$A$57+3*COS((Right_side_angle/2-90)/rad2deg)","v":0.78009334955664889},null,-10,10,10,55,55,15,15,10,10,-10,-10,-20,-20,-10,-10,null,{"$f":"$A$57+3*COS(Right_side_angle/2/rad2deg)","v":2.8967978466987594},{"$f":"$A$57-3*COS(Right_side_angle/2/rad2deg)","v":-2.8967978466987594},null,{"$f":"$A$57+3*COS((Right_side_angle/2+90)/rad2deg)","v":-0.78011463062191666},{"$f":"$A$57+3*COS((Right_side_angle/2-90)/rad2deg)","v":0.78009334955664889}]
[0,"Y",{"$f":"$A$58+3*SIN(Right_side_angle/2/rad2deg)","v":0.78010399009454567},{"$f":"$A$58-3*SIN(Right_side_angle/2/rad2deg)","v":-0.78010399009454567},null,{"$f":"$A$58+3*SIN((Right_side_angle/2+90)/rad2deg)","v":2.8967949811972593},{"$f":"$A$58+3*SIN((Right_side_angle/2-90)/rad2deg)","v":-2.8968007121611743},null,-7,-7,10,10,112,112,180,180,{"$f":"Arm_length+7","v":312},{"$f":"Arm_length+7","v":312},180,180,10,10,-7,null,{"$f":"$A$58+3*SIN(Right_side_angle/2/rad2deg)+Arm_length","v":305.78010399009457},{"$f":"$A$58-3*SIN(Right_side_angle/2/rad2deg)+Arm_length","v":304.21989600990543},null,{"$f":"$A$58+3*SIN((Right_side_angle/2+90)/rad2deg)+Arm_length","v":307.89679498119727},{"$f":"$A$58+3*SIN((Right_side_angle/2-90)/rad2deg)+Arm_length","v":302.10319928783883}]
[0,"length",{"$f":"SQRT(C56*C56+C57*C57)","v":3},{"$f":"SQRT(D56*D56+D57*D57)","v":3},{"$f":"SQRT(E56*E56+E57*E57)","v":0},{"$f":"SQRT(F56*F56+F57*F57)","v":3},{"$f":"SQRT(G56*G56+G57*G57)","v":2.9999999999999996},{"$f":"SQRT(H56*H56+H57*H57)","v":0},{"$f":"SQRT(I56*I56+I57*I57)","v":12.206555615733702},{"$f":"SQRT(J56*J56+J57*J57)","v":12.206555615733702},{"$f":"SQRT(K56*K56+K57*K57)","v":14.142135623730951},{"$f":"SQRT(L56*L56+L57*L57)","v":55.901699437494742},{"$f":"SQRT(M56*M56+M57*M57)","v":124.77579893553076},{"$f":"SQRT(N56*N56+N57*N57)","v":113},{"$f":"SQRT(O56*O56+O57*O57)","v":180.62391868188442},{"$f":"SQRT(P56*P56+P57*P57)","v":180.27756377319946},{"$f":"SQRT(Q56*Q56+Q57*Q57)","v":312.16021527414409},{"$f":"SQRT(R56*R56+R57*R57)","v":312.16021527414409},{"$f":"SQRT(S56*S56+S57*S57)","v":180.27756377319946},{"$f":"SQRT(T56*T56+T57*T57)","v":181.10770276274835},{"$f":"SQRT(U56*U56+U57*U57)","v":22.360679774997898},{"$f":"SQRT(V56*V56+V57*V57)","v":14.142135623730951},{"$f":"SQRT(W56*W56+W57*W57)","v":12.206555615733702},0,{"$f":"SQRT(Y56*Y56+Y57*Y57)","v":305.79382504222957},{"$f":"SQRT(Z56*Z56+Z57*Z57)","v":304.2336874280071},{"$f":"SQRT(AA56*AA56+AA57*AA57)","v":0},{"$f":"SQRT(AB56*AB56+AB57*AB57)","v":307.89778326342389},{"$f":"SQRT(AC56*AC56+AC57*AC57)","v":302.10420646787043}]
[null,"angle",{"$f":"IF(C56>0,ATAN(C57/C56)*rad2deg,IF(C56=0,IF(C57>0,1,-1)*90,ATAN(C57/C56)*rad2deg+180))","v":15.072083710474354},195.07208371047435,-90,105.07250462778948,-74.927916289525655,-90,214.99193837218536,-34.991938372185366,44.999894770671219,10.304822371608763,63.845514923100602,82.371657710652173,85.236158990056651,86.819966857286843,88.164019093626607,91.835980906373393,93.180033142713157,96.340387378475882,153.4350109434221,135.00010522932877,214.99193837218536,{"$f":"IF(X56>0,ATAN(X57/X56)*rad2deg,IF(X56=0,IF(X57>0,1,-1)*90,ATAN(X57/X56)*rad2deg+180))","v":-90},89.457017348175143,90.545766120180105,-90,90.145379477734366,89.85184058614503]

{"sheet":"solution","index":2,"n_rows":2,"n_cols":52,"rows_kept":2,"cut":false,"hidden":false,"merged":[]}
["Arm",205,207,209,211,213,215,217,219,221,223,225,227,229,231,233,235,237,239,241,243,245,247,249,251,253,255,257,259,261,263,265,267,269,271,273,275,277,279,281,283,285,287,289,291,293,295,297,299,301,303,305]
["Motor angle",-44.192153514936081,-44.622195006262928,-45.0559538920592,-45.493814613208578,-45.935870065764732,-46.382219049316262,-46.832966734435779,-47.2882250380014,-47.748113037809127,-48.212757430783853,-48.682293039667343,-49.156863373780119,-49.636621250291327,-50.121729483411116,-50.612361650072707,-51.108702942029609,-51.610951115903681,-52.119317554633355,-52.634028456058168,-53.155326167117998,-53.683470685451503,-54.218741354182278,-54.761438780555274,-55.31188701505237,-55.870436034959411,-56.437464585450627,-57.013383442588221,-57.598639176852799,-58.193718513782692,-58.799153411173606,-59.415527001646353,-60.043480587401859,-60.683721923658027,-61.337035092835848,-62.004292359059157,-62.686468510656518,-63.384658359858804,-64.099742105408083,-64.833752003878161,-65.588003353879699,-66.364342475747208,-67.164914307109541,-67.992234358483572,-68.849284629862254,-69.739644020146287,-70.66766971441109,-71.63875623901842,-72.659717143908878,-73.739368687391902,-74.88946382183876,-76.126273555529636]